BEGIN:VCALENDAR
VERSION:2.0
PRODID:-//Vintners Village - ECPv6.15.20//NONSGML v1.0//EN
CALSCALE:GREGORIAN
METHOD:PUBLISH
X-ORIGINAL-URL:https://vintnersvillage.com
X-WR-CALDESC:Events for Vintners Village
REFRESH-INTERVAL;VALUE=DURATION:PT1H
X-Robots-Tag:noindex
X-PUBLISHED-TTL:PT1H
BEGIN:VTIMEZONE
TZID:America/Los_Angeles
BEGIN:DAYLIGHT
TZOFFSETFROM:-0800
TZOFFSETTO:-0700
TZNAME:PDT
DTSTART:20210314T100000
END:DAYLIGHT
BEGIN:STANDARD
TZOFFSETFROM:-0700
TZOFFSETTO:-0800
TZNAME:PST
DTSTART:20211107T090000
END:STANDARD
BEGIN:DAYLIGHT
TZOFFSETFROM:-0800
TZOFFSETTO:-0700
TZNAME:PDT
DTSTART:20220313T100000
END:DAYLIGHT
BEGIN:STANDARD
TZOFFSETFROM:-0700
TZOFFSETTO:-0800
TZNAME:PST
DTSTART:20221106T090000
END:STANDARD
BEGIN:DAYLIGHT
TZOFFSETFROM:-0800
TZOFFSETTO:-0700
TZNAME:PDT
DTSTART:20230312T100000
END:DAYLIGHT
BEGIN:STANDARD
TZOFFSETFROM:-0700
TZOFFSETTO:-0800
TZNAME:PST
DTSTART:20231105T090000
END:STANDARD
BEGIN:DAYLIGHT
TZOFFSETFROM:-0800
TZOFFSETTO:-0700
TZNAME:PDT
DTSTART:20240310T100000
END:DAYLIGHT
BEGIN:STANDARD
TZOFFSETFROM:-0700
TZOFFSETTO:-0800
TZNAME:PST
DTSTART:20241103T090000
END:STANDARD
BEGIN:DAYLIGHT
TZOFFSETFROM:-0800
TZOFFSETTO:-0700
TZNAME:PDT
DTSTART:20250309T100000
END:DAYLIGHT
BEGIN:STANDARD
TZOFFSETFROM:-0700
TZOFFSETTO:-0800
TZNAME:PST
DTSTART:20251102T090000
END:STANDARD
BEGIN:DAYLIGHT
TZOFFSETFROM:-0800
TZOFFSETTO:-0700
TZNAME:PDT
DTSTART:20260308T100000
END:DAYLIGHT
BEGIN:STANDARD
TZOFFSETFROM:-0700
TZOFFSETTO:-0800
TZNAME:PST
DTSTART:20261101T090000
END:STANDARD
END:VTIMEZONE
BEGIN:VEVENT
DTSTART;TZID=America/Los_Angeles:20250426T110000
DTEND;TZID=America/Los_Angeles:20250426T170000
DTSTAMP:20260423T105014
CREATED:20250423T215234Z
LAST-MODIFIED:20250423T215234Z
UID:10000305-1745665200-1745686800@vintnersvillage.com
SUMMARY:Spring Barrel 2025 at Martinez & Martinez Winery
DESCRIPTION:  \n \nJoin la Familia Martinez for Spring Barrel 2025! With ticketed entry receive access to the Spring Barrel Event\, an event wine glass and four drink tickets for wine and barrel samples. Wine by the glass/bottle\, beer and wine slushies (OG Rosé Rita & Mango Rita) are available for purchase. We will have several food vendors on site to choose from and DJ Chuko on the music. Join the fun! \nFood available for purchase! \n-Neighbors BBQ \n-Ciao Trattoria \n-Mama Juanita’s Tacos \n-Mz Snack Bar \n-Tiz Cookies \n-Rudy’s Pepper Blends \n-2k Bakery \nOnce purchased your name will automatically go on our Will Call list and there will be a section for pre purchased tickets when you arrive at the gate! \nTickets will be available to purchase at the front gate day of as well. Wine Club Members get their entry fee waived.
URL:https://vintnersvillage.com/event/spring-barrel-2025-at-martinez-martinez-winery/
LOCATION:Martinez & Martinez Winery\, 357 Port Ave.\, Prosser\, WA\, 99350\, United States
END:VEVENT
BEGIN:VEVENT
DTSTART;TZID=America/Los_Angeles:20230916T180000
DTEND;TZID=America/Los_Angeles:20230916T210000
DTSTAMP:20260423T105014
CREATED:20230606T214249Z
LAST-MODIFIED:20240422T152945Z
UID:10000299-1694887200-1694898000@vintnersvillage.com
SUMMARY:Lounging in the Loft - Fino
DESCRIPTION:Music by Fino\n\nSummer Saturday Nights\n6 p.m. – 9 p.m.\n$15 cover\n21+ event\nFood truck\n\n 
URL:https://vintnersvillage.com/event/lounging-in-the-loft-fino/
LOCATION:Martinez & Martinez Winery\, 357 Port Ave.\, Prosser\, WA\, 99350\, United States
END:VEVENT
BEGIN:VEVENT
DTSTART;TZID=America/Los_Angeles:20230805T180000
DTEND;TZID=America/Los_Angeles:20230805T210000
DTSTAMP:20260423T105014
CREATED:20230606T214133Z
LAST-MODIFIED:20240422T152945Z
UID:10000297-1691258400-1691269200@vintnersvillage.com
SUMMARY:Lounging in the Loft - Naughty Pine
DESCRIPTION:Music by Naughty Pine\n\nSummer Saturday Nights\n6 p.m. – 9 p.m.\n$15 cover\n21+ event\nFood truck\n\n 
URL:https://vintnersvillage.com/event/lounging-in-the-loft-naughty-pine/
LOCATION:Martinez & Martinez Winery\, 357 Port Ave.\, Prosser\, WA\, 99350\, United States
END:VEVENT
BEGIN:VEVENT
DTSTART;TZID=America/Los_Angeles:20230701T180000
DTEND;TZID=America/Los_Angeles:20230701T210000
DTSTAMP:20260423T105014
CREATED:20230606T213944Z
LAST-MODIFIED:20240422T152946Z
UID:10000295-1688234400-1688245200@vintnersvillage.com
SUMMARY:Lounging in the Loft - Latin Fusion
DESCRIPTION:Music by Latin Fusion\n\nSummer Saturday Nights\n6 p.m. – 9 p.m.\n$15 cover\n21+ event\nFood truck\n\n 
URL:https://vintnersvillage.com/event/lounging-in-the-loft-latin-fusion/
LOCATION:Martinez & Martinez Winery\, 357 Port Ave.\, Prosser\, WA\, 99350\, United States
END:VEVENT
BEGIN:VEVENT
DTSTART;TZID=America/Los_Angeles:20230429T110000
DTEND;TZID=America/Los_Angeles:20230429T170000
DTSTAMP:20260423T105014
CREATED:20230407T182514Z
LAST-MODIFIED:20240422T152947Z
UID:10000268-1682766000-1682787600@vintnersvillage.com
SUMMARY:Spring Barrel @ Martinez & Martinez!
DESCRIPTION:Wine\, food\, roseritas!\nDJ Chuko on site and barrel samples with the winemaker!
URL:https://vintnersvillage.com/event/spring-barrel-martinez-martinez/
LOCATION:Martinez & Martinez Winery\, 357 Port Ave.\, Prosser\, WA\, 99350\, United States
END:VEVENT
BEGIN:VEVENT
DTSTART;TZID=America/Los_Angeles:20230422T110000
DTEND;TZID=America/Los_Angeles:20230422T170000
DTSTAMP:20260423T105014
CREATED:20230405T170259Z
LAST-MODIFIED:20240422T152947Z
UID:10000196-1682161200-1682182800@vintnersvillage.com
SUMMARY:Winemaker's Loft Spring Celebration
DESCRIPTION:Join us for a day of great wine\, music\, food and fun for a good cause! \nHeartlinks is teaming up with the Winemakers Loft – Coyote Canyon Winery and Martinez & Martinez Winery – for our 7th Annual Spring Celebration\, made possible by the support of Custom Bottling and Filtering. \nWhen: April 22\, 2023 | 11 a.m. to 5 p.m. \nWhere: The Winemakers Loft Courtyard | 357 Port Ave\, Prosser\, WA 99350 \nAdmission: $10 donation to Heartlinks by April 21 (purchase online) or $15 donation at the door* \n*Additional donations on the day of the event are greatly appreciated. \nThis event raises a glass in a big way to all things Prosser Wine Country while giving back to Heartlinks. \nWith your donation of $10 or more\, you will receive a commemorative wine glass\, a complimentary wine flight and wine-club-member pricing for the day at both wineries while enjoying two live music performances! \nBoth wineries will donate 10% of their April 22 proceeds to Heartlinks. \nEnjoy food from Big Weezy’s BBQ and Blissful Bites Mini Doughnuts while you listen to live performances by Cale Moon and TC Latin Fusion Band. \nThe Spring Celebration promises to be a fun way to spend the day\, sipping for a great cause. We hope to see you there!
URL:https://vintnersvillage.com/event/1861/
LOCATION:Martinez & Martinez Winery\, 357 Port Ave.\, Prosser\, WA\, 99350\, United States
END:VEVENT
BEGIN:VEVENT
DTSTART;TZID=America/Los_Angeles:20230211T180000
DTEND;TZID=America/Los_Angeles:20230211T210000
DTSTAMP:20260423T105014
CREATED:20230206T205737Z
LAST-MODIFIED:20240422T152949Z
UID:10000256-1676138400-1676149200@vintnersvillage.com
SUMMARY:Valentine's Pop-Up Dinner at Martinez & Martinez
DESCRIPTION:Saturday\, February 11th 6pm-9pm. Martinez & Martinez Winery. Join is for a night of food\, wine\, and all things delicious and divine. For reservations call our tasting room at 509-786-2392. \n 
URL:https://vintnersvillage.com/event/valentines-pop-up-dinner-at-martinez-martinez/
LOCATION:Martinez & Martinez Winery\, 357 Port Ave.\, Prosser\, WA\, 99350\, United States
END:VEVENT
BEGIN:VEVENT
DTSTART;TZID=America/Los_Angeles:20221125T150000
DTEND;TZID=America/Los_Angeles:20221125T170000
DTSTAMP:20260423T105015
CREATED:20221117T174820Z
LAST-MODIFIED:20240422T152950Z
UID:10000178-1669388400-1669395600@vintnersvillage.com
SUMMARY:Thanksgiving in Wine Country at Martinez & Martinez Winery
DESCRIPTION:Friday\, November 25th 3pm-5pm. Martinez & Martinez Winery plans to host “The Unknowns” for Thanksgiving in Wine County. Take advantage of their largest case and half case sales of the year and look forward to yummy bites in a warm\, inviting environment. Entrance is free! \n 
URL:https://vintnersvillage.com/event/thanksgiving-in-wine-country-at-martinez-martinez-winery/
LOCATION:Martinez & Martinez Winery\, 357 Port Ave.\, Prosser\, WA\, 99350\, United States
END:VEVENT
BEGIN:VEVENT
DTSTART;TZID=America/Los_Angeles:20221119T170000
DTEND;TZID=America/Los_Angeles:20221119T190000
DTSTAMP:20260423T105015
CREATED:20221102T205537Z
LAST-MODIFIED:20240422T152950Z
UID:10000172-1668877200-1668884400@vintnersvillage.com
SUMMARY:Ceramic Candy Skull Paint & Sip
DESCRIPTION:Paint party at Martinez & Martinez! \n 
URL:https://vintnersvillage.com/event/ceramic-candy-skull-paint-sip/
LOCATION:Martinez & Martinez Winery\, 357 Port Ave.\, Prosser\, WA\, 99350\, United States
END:VEVENT
BEGIN:VEVENT
DTSTART;TZID=America/Los_Angeles:20220910T180000
DTEND;TZID=America/Los_Angeles:20220910T210000
DTSTAMP:20260423T105015
CREATED:20220613T195059Z
LAST-MODIFIED:20240422T152952Z
UID:10000215-1662832800-1662843600@vintnersvillage.com
SUMMARY:Lounging in the Loft - Eddie Manzaneres & Cafe Blanco
DESCRIPTION:Music by Eddie Manzaneres & Cafe Blanco\n\nSummer Saturday Nights\n6:00pm – 9:00pm\n$15.00 Cover\n21+ Event\nSmall Plates Available for Purchase\n\n  \n 
URL:https://vintnersvillage.com/event/lounging-in-the-loft-eddie-manzaneres-cafe-blanco/
LOCATION:Martinez & Martinez Winery\, 357 Port Ave.\, Prosser\, WA\, 99350\, United States
END:VEVENT
BEGIN:VEVENT
DTSTART;TZID=America/Los_Angeles:20220806T180000
DTEND;TZID=America/Los_Angeles:20220806T210000
DTSTAMP:20260423T105015
CREATED:20220609T210836Z
LAST-MODIFIED:20240422T152953Z
UID:10000210-1659808800-1659819600@vintnersvillage.com
SUMMARY:Lounging in the Loft - TC Latin Fusion
DESCRIPTION:Music by TC Latin Fusion\, August 6\, Martinez & Martinez\n\nSummer Saturday Nights\n6:00pm – 9:00pm\n$15.00 Cover\n21+ Event\nSmall Plates Available for Purchase\n\n  \n 
URL:https://vintnersvillage.com/event/lounging-in-the-loft-tc-latin-fusion/
LOCATION:Martinez & Martinez Winery\, 357 Port Ave.\, Prosser\, WA\, 99350\, United States
ORGANIZER;CN="Martinez & Martinez Winery":MAILTO:info@martinezwine.com
END:VEVENT
BEGIN:VEVENT
DTSTART;TZID=America/Los_Angeles:20220618T060000
DTEND;TZID=America/Los_Angeles:20220618T210000
DTSTAMP:20260423T105015
CREATED:20220609T170802Z
LAST-MODIFIED:20240422T152954Z
UID:10000206-1655532000-1655586000@vintnersvillage.com
SUMMARY:Lounging at the Loft - Fino
DESCRIPTION:Music by Fino \n\n$15.00 Cover\n21+ Event\nSmall Plates Available for Purchase\n\n 
URL:https://vintnersvillage.com/event/martinez-martinez-winery-lounging-at-the-loft-fino/
LOCATION:Martinez & Martinez Winery\, 357 Port Ave.\, Prosser\, WA\, 99350\, United States
ORGANIZER;CN="Martinez & Martinez Winery":MAILTO:info@martinezwine.com
END:VEVENT
END:VCALENDAR